BEGIN:VCALENDAR
METHOD:PUBLISH
VERSION:2.0
PRODID:-//WoltLab GmbH//WoltLab Suite Calendar 5.4//EN
CALSCALE:GREGORIAN
X-WR-CALNAME;VALUE=TEXT:Events aus der Community
BEGIN:VEVENT
TRANSP:OPAQUE
UID:event-3@gw2community.de
URL:https://gw2community.de/calendar/event/24-in-gildenmission-intern/
DTSTART:20151213T180000Z
DTSTAMP:20151213T180000Z
CREATED:20151213T180000Z
SUMMARY:[IN] Gildenmission Intern
DESCRIPTION:Gildenmissionen von Internos immer Sonntags ab 19Uhr Ihr könnt 
 gerne Freundemitbringen.
DTEND:20151213T194500Z
RRULE:FREQ=WEEKLY;INTERVAL=1;BYDAY=SU;WKST=MO;UNTIL=20170325
END:VEVENT
BEGIN:VEVENT
TRANSP:OPAQUE
UID:event-9@gw2community.de
URL:https://gw2community.de/calendar/event/1086-zdf-gildenmissionen-intern/
DTSTART:20151213T170000Z
DTSTAMP:20151213T170000Z
CREATED:20151213T170000Z
SUMMARY:[ZdF] Gildenmissionen Intern
DESCRIPTION:Interne Gildenmissionen von [ZdF] Zirkel der Finsternis
DTEND:20151213T190000Z
CATEGORIES:Gildenmissionschannel
END:VEVENT
BEGIN:VEVENT
TRANSP:OPAQUE
UID:event-11@gw2community.de
URL:https://gw2community.de/calendar/event/1301-burn-gildenmissionen-intern
 /
DTSTART:20160103T180000Z
DTSTAMP:20160103T180000Z
CREATED:20160103T180000Z
SUMMARY:[Burn] Gildenmissionen Intern
DESCRIPTION:Gildenmissionen Alliance Of The Eternal Flame
DTEND:20160103T191500Z
RRULE:FREQ=WEEKLY;INTERVAL=1;BYDAY=TU,WE;WKST=MO;UNTIL=20161029
CATEGORIES:Gildenmissionschannel
END:VEVENT
BEGIN:VEVENT
TRANSP:OPAQUE
UID:event-18@gw2community.de
URL:https://gw2community.de/calendar/event/3144-%C3%B6ffentliches-rollenspi
 el-das-feuer/
DTSTART:20160104T190000Z
DTSTAMP:20160104T190000Z
CREATED:20160104T190000Z
SUMMARY:Öffentliches Rollenspiel \"Das Feuer\"
DESCRIPTION:Am Montag\, dem 04.01.2016\, veranstaltet die Gilde „Forsaken T
 ears“ [tear] ein öffentliches Rollenspiel in Hoelbrak (Wegmarke Prahlhalle)
  unter dem Motto „Das Feuer“. Jeder ist dazu eingeladen\, einen festen Verl
 auf des RP gibt es nicht. Das RP soll sich frei entwickeln!\n\nBei weiteren
  Fragen könnt Ihr euch gerne vorab an mich (@Kleen Rahni [URL:https://gw2co
 mmunity.de/user/958-Kleen-Rahni/]) wenden.
DTEND:20160104T210000Z
END:VEVENT
BEGIN:VEVENT
TRANSP:OPAQUE
UID:event-34@gw2community.de
URL:https://gw2community.de/calendar/event/4850-planm%C3%A4%C3%9Fige-server
 -wartungsarbeiten-am-19-02-2016/
DTSTART:20160219T190000Z
DTSTAMP:20160219T190000Z
CREATED:20160219T190000Z
SUMMARY:Planmäßige Server-Wartungsarbeiten am 19.02.2016
DESCRIPTION:Liebe Community\, liebe Besucher\,\n\n\nunsere hardwareaffinen 
 Asura haben sich dazu entschlossen\, Wartungsarbeiten an unseren Servern du
 rchzuführen.\nDie Arbeiten werden am Freitag\, dem 19. Februar 2016\, ab 20
 :00 Uhr stattfinden.\nAb diesem Zeitpunkt kann es zu mehreren kurzfristigen
  Nicht-Erreichbarkeiten unserer Dienste kommen.\n\nWir bitten für die entst
 ehenden Unannehmlichkeiten um Entschuldigung.\n\n\nEuer GW2Community-Team
DTEND:20160220T050000Z
END:VEVENT
BEGIN:VEVENT
TRANSP:OPAQUE
UID:event-102@gw2community.de
URL:https://gw2community.de/calendar/event/12277-tyrias-next-topmodel-moden
 schau/
DTSTART:20160625T173000Z
DTSTAMP:20160625T173000Z
CREATED:20160625T173000Z
SUMMARY:Tyrias NEXT Topmodel (Modenschau)
DESCRIPTION:Wir bin der [EEE] haben vor eine Modenschau in Gw2 zu veranstal
 ten.\nDabei werden wir und alle in einem Gebiet treffen\, die Teilnehmer we
 rden einzeln einmal hin und her laufen und danach wird abgestimmt. Es wird 
 mehrere Kategorien geben\, z.B. Schönster Charakter\, ausgefallenster oder 
 Thematisch am besten passender.\n\nZum Mitmachen müssen keine Bedingungen e
 rfüllt werden\, allerdings wir es für den Gewinner keine Belohnung in Form 
 von Gold oder Gegenständen geben (Es gibt natürlich eine Siegerehrung  ^^  
 )\n\nStattfinden wir das Event am Samstag.\n\nWir haben auch extra dafür ei
 nen TS-Channel erhalten\, dort hin könnt ihr auch kommen  ^^ \n\nAlle Teiln
 ehmer (Models) tragen sich bitte hier [URL:https://docs.google.com/document
 /d/1lOPQ5bsDdw-Tpsh_LGyUcEKuZtU4qCwQ2Ft-B6v9z78/edit] ein !\n\nWo das ganze
  Stattfinden wird wird im TS-Channel bekannt gegeben  :) \n\nWie lange es d
 auert hängt von der Anzahl der Teilnehmer ab\n\nEuer Opossum LP
DTEND:20160625T180000Z
CATEGORIES:Modenschau,Für Jeden
END:VEVENT
BEGIN:VEVENT
TRANSP:OPAQUE
UID:event-109@gw2community.de
URL:https://gw2community.de/calendar/event/12743-tyrias-next-topmodel-ii/
DTSTART:20160910T173000Z
DTSTAMP:20160910T173000Z
CREATED:20160910T173000Z
SUMMARY:Tyrias NEXT Topmodel II
DESCRIPTION:Hey Tyrianer !\n\nIhr seit schön\, oder ? Zeigt es uns bei Tyri
 as NEXT Topmodel II !\nAufgrund eures sehr positiven Feedback beim letzten 
 mal\, geht Tyrias NEXT Topmodel nun in die nächste Runde !\n\nWir beim letz
 ten mal stellt ihr euch wieder mit euren Charakteren zur Schau\, danach wir
 d abgestimmt !\nZum mitmachen müssen keine Bedingung erfüllt werden\, aller
 dings wir es für den Gewinner keine Belohnung in Form von Gold oder Gegenst
 änden geben (Es gibt natürlich eine Siegerehrung  )\n\nStattfinden wir das 
 Event am Samstag den 10.10.2016 in unserem Channel in dem Eventbereich von 
 Gw2ts.de \n\n(Genaue Zeit : Wird nachgereicht)\n\nIhr beurteilt wie gut die
  \"Austeller\" zu unseren Themen passen.\nÜber diese wird Hier [URL:https:/
 /docs.google.com/forms/d/e/1FAIpQLScnWo1iFtl6mPoEDLzi5c1AWmGVpnW1Hqm4Zc5fOb
 jSKJ1OGQ/viewform] abgestimmt.\n\nFür einen Überblick sollten sich bitte al
 le bis Freitag Abend hier ein : Klick mich [URL:https://docs.google.com/doc
 ument/d/1lOPQ5bsDdw-Tpsh_LGyUcEKuZtU4qCwQ2Ft-B6v9z78/edit#]\n\nBringt gerne
  alle mit die ihr habt\, Teams sind möglich (werden als 1. Person behandelt
 ) \n\nAuch eure Meinung zu unserem Projekt würde ich gerne wissen\, also ha
 ut in die Tasten \n\nEuer Opossum LP\n\nTNT II - explosiv und exklusiv\n\n\
 nDer Rechtsweg ist ausgeschlossen !
DTEND:20160910T183000Z
END:VEVENT
BEGIN:VEVENT
TRANSP:OPAQUE
UID:event-199@gw2community.de
URL:https://gw2community.de/calendar/event/18689-artstream-von-serenity/
DTSTART:20170208T180000Z
DTSTAMP:20170208T180000Z
CREATED:20170208T180000Z
SUMMARY:ArtStream von Serenity
DESCRIPTION:Auf dem Twitchkanal [URL:https://www.twitch.tv/gw2community_de]
 der gw2community.
DTEND:20170208T203000Z
END:VEVENT
BEGIN:VEVENT
TRANSP:OPAQUE
UID:event-200@gw2community.de
URL:https://gw2community.de/calendar/event/18690-stream-faniel-co-auf-exped
 ition-in-tyria-arah-p4/
DTSTART:20170208T204500Z
DTSTAMP:20170208T204500Z
CREATED:20170208T204500Z
SUMMARY:Stream: Faniel & Co. auf Expedition in Tyria - Arah P4
DESCRIPTION:Auf dem Twitchkanal [URL:https://www.twitch.tv/gw2community_de]
  der gw2community.
DTEND:20170208T221500Z
END:VEVENT
BEGIN:VEVENT
TRANSP:OPAQUE
UID:event-232@gw2community.de
URL:https://gw2community.de/calendar/event/20091-artstream-mit-shadowmaker-
 serenity/
DTSTART:20170419T173000Z
DTSTAMP:20170419T173000Z
CREATED:20170419T173000Z
SUMMARY:ArtStream mit Shadowmaker Serenity
DESCRIPTION:Wöchentlicher Zeichenstream mit Shadowmaker Serenity auf  https
 ://www.twitch.tv/gw2community_de
DTEND:20170419T183000Z
CATEGORIES:Stream,shadowmaker serenity,ArtStream
END:VEVENT
BEGIN:VEVENT
TRANSP:OPAQUE
UID:event-233@gw2community.de
URL:https://gw2community.de/calendar/event/20092-artstream-mit-shadowmaker-
 serenity/
DTSTART:20170426T173000Z
DTSTAMP:20170426T173000Z
CREATED:20170426T173000Z
SUMMARY:ArtStream mit Shadowmaker Serenity
DESCRIPTION:Wöchentlicher Zeichenstream mit Shadowmaker Serenity auf twitch
 .tv/gw2community_de [URL:https://www.twitch.tv/gw2community_de]
DTEND:20170426T183000Z
CATEGORIES:Stream,ArtStream
END:VEVENT
BEGIN:VEVENT
TRANSP:OPAQUE
UID:event-234@gw2community.de
URL:https://gw2community.de/calendar/event/20093-artstream-mit-shadowmaker-
 serenity/
DTSTART:20170503T173000Z
DTSTAMP:20170503T173000Z
CREATED:20170503T173000Z
SUMMARY:ArtStream mit Shadowmaker Serenity
DESCRIPTION:Wöchentlicher Zeichenstream mit Shadowmaker Serenity auf twitch
 .tv/gw2community_de [URL:https://www.twitch.tv/gw2community_de]\n\nDiese Wo
 che mit einem Stream der besonderen Art - Alle Zuschauer können mir während
  des Streams einen Screenshot ihres Charakters per Discord senden\,\nden ic
 h dann live für euch zeichne!
DTEND:20170503T183000Z
CATEGORIES:Stream,ArtStream
END:VEVENT
BEGIN:VEVENT
TRANSP:OPAQUE
UID:event-243@gw2community.de
URL:https://gw2community.de/calendar/event/20413-livestream-gamergivingback
 -ms-toga-party/
DTSTART:20170513T190000Z
DTSTAMP:20170513T190000Z
CREATED:20170513T190000Z
SUMMARY:[Livestream] GamerGivingBack MS Toga Party
DESCRIPTION:Auch in diesem Jahr findet wieder die MS Toga Party in Tyria st
 att und unsere Streamerin Shaowmaker Serenity wird das\nEvent ab 21 Uhr für
  einige Zeit begleiten und Fragen rund um Multiple Sklerose beantworten und
  von eigenen Erlebnissen berichten.\n\nNähere Informationen zum Ablauf find
 et ihr im offiziellen Thread:\nhttps://forum-en.guildwars2.com/forum/commun
 ity/events/Toga-Party-for-MS-Official-Thread
DTEND:20170513T200000Z
CATEGORIES:ms,toga,party,multiple sklerose
END:VEVENT
BEGIN:VEVENT
TRANSP:OPAQUE
UID:event-307@gw2community.de
URL:https://gw2community.de/calendar/event/21001-ank%C3%BCndigung-der-erwei
 terung-von-arenanet/
DTSTART:20170801T160000Z
DTSTAMP:20170801T160000Z
CREATED:20170801T160000Z
SUMMARY:Ankündigung der Erweiterung von ArenaNet
DESCRIPTION:Ankündigung der zweiten Erweiterung auf guildwars2.com und Twit
 ch
DTEND:20170801T170000Z
END:VEVENT
BEGIN:VEVENT
TRANSP:OPAQUE
UID:event-308@gw2community.de
URL:https://gw2community.de/calendar/event/21010-path-of-fire-betawochenend
 e/
DTSTART:20170811T160000Z
DTSTAMP:20170811T160000Z
CREATED:20170811T160000Z
SUMMARY:Path of Fire - Betawochenende
DESCRIPTION:Das Beta-Wochenende für die neue Erweiterung \"Path of Fire\"
DTEND:20170813T215900Z
END:VEVENT
BEGIN:VEVENT
TRANSP:OPAQUE
UID:event-340@gw2community.de
URL:https://gw2community.de/calendar/event/21520-release-path-of-fire/
DTSTART:20170922T160000Z
DTSTAMP:20170922T160000Z
CREATED:20170922T160000Z
SUMMARY:Release Path of Fire
DESCRIPTION:Release der neuen Erweiterung \"Path of Fire\"
DTEND:20170922T215900Z
END:VEVENT
BEGIN:VEVENT
TRANSP:OPAQUE
UID:event-372@gw2community.de
URL:https://gw2community.de/calendar/event/22285-planm%C3%A4%C3%9Fige-serve
 rwartung/
DTSTART:20171103T190000Z
DTSTAMP:20171103T190000Z
CREATED:20171103T190000Z
SUMMARY:Planmäßige Serverwartung
DESCRIPTION:Planmäßige Serverwartung
DTEND:20171104T030000Z
END:VEVENT
BEGIN:VEVENT
TRANSP:TRANSPARENT
UID:event-456@gw2community.de
URL:https://gw2community.de/calendar/event/23413-gw2community-de-w%C3%BCnsc
 ht-fr%C3%B6hliche-weihnachten/
DTSTART;VALUE=DATE:20171224
DTSTAMP:20171224T000000Z
CREATED:20171224T000000Z
SUMMARY:GW2Community.de wünscht fröhliche Weihnachten
DTEND;VALUE=DATE:20171225
END:VEVENT
BEGIN:VEVENT
TRANSP:TRANSPARENT
UID:event-457@gw2community.de
URL:https://gw2community.de/calendar/event/23414-gw2community-de-w%C3%BCnsc
 ht-einen-sch%C3%B6nen-ersten-weihnachtsfeiertag/
DTSTART;VALUE=DATE:20171225
DTSTAMP:20171225T000000Z
CREATED:20171225T000000Z
SUMMARY:GW2Community.de wünscht einen schönen ersten Weihnachtsfeiertag
DTEND;VALUE=DATE:20171226
END:VEVENT
BEGIN:VEVENT
TRANSP:TRANSPARENT
UID:event-458@gw2community.de
URL:https://gw2community.de/calendar/event/23415-gw2community-de-w%C3%BCnsc
 ht-einen-ruhigen-zweiten-weihnachtsfeiertag/
DTSTART;VALUE=DATE:20171226
DTSTAMP:20171226T000000Z
CREATED:20171226T000000Z
SUMMARY:GW2Community.de wünscht einen ruhigen zweiten Weihnachtsfeiertag
DTEND;VALUE=DATE:20171227
END:VEVENT
BEGIN:VEVENT
TRANSP:OPAQUE
UID:event-1636@gw2community.de
URL:https://gw2community.de/calendar/event/24988-love4arenanet/
DTSTART:20190226T173000Z
DTSTAMP:20190226T173000Z
CREATED:20190226T173000Z
SUMMARY:#Love4ArenaNet
DESCRIPTION:Heute Abend wird Fashionfuchs (fashionfuchs.3405) mit uns durch
  Guild Wars 2 und Guild Wars ziehen. Gemeinsam werden wir verschiedene Orte
  besuchen und Bilder der bunten Spielerschaft machen. Los geht's gegen 18:3
 0 Uhr in Löwenstein (in Guild Wars 2). Das Event wird von Fashionfuchs auf 
 Twitch gestreamt werden und wir werden den Stream natürlich auch auf unsere
 m Kanal hosten.\n\n#Love4ArenaNet [URL:https://gw2community.de/forum/thread
 /14169-love4arenanet/]
DTEND:20190226T183000Z
END:VEVENT
BEGIN:VEVENT
TRANSP:TRANSPARENT
UID:event-1793@gw2community.de
URL:https://gw2community.de/calendar/event/25145-geburtstag-gw2community/
DTSTART;VALUE=DATE:20140501
DTSTAMP:20140501T000000Z
CREATED:20140501T000000Z
SUMMARY:Geburtstag GW2Community
DESCRIPTION:Seit dem 01. Mai 2014 existiert die GW2Community.
DTEND;VALUE=DATE:20140502
RRULE:FREQ=YEARLY;INTERVAL=1;BYMONTHDAY=1;BYMONTH=5;WKST=MO;UNTIL=20240422
END:VEVENT
BEGIN:VEVENT
TRANSP:OPAQUE
UID:event-2125@gw2community.de
URL:https://gw2community.de/calendar/event/25564-ank%C3%BCndigung-lebendige
 -welt-staffel-5-livestream-von-arenanet/
DTSTART:20190830T153000Z
DTSTAMP:20190830T153000Z
CREATED:20190830T153000Z
SUMMARY:Ankündigung Lebendige Welt Staffel 5 (LiveStream von ArenaNet)
DESCRIPTION:Infos und Diskussion über das Event: Nehmt am 30. August an ein
 em besonderen Live-Event teil [URL:https://gw2community.de/forum/thread/145
 39-nehmt-am-30-august-an-einem-besonderen-live-event-teil/?postID=80315#pos
 t80315]\nhttps://gw2community.de/video-portal/\n	Infos zum Ankündigungseven
 t\nDatum und Uhrzeit: 30. August um 18:00 Uhr MESZ (9:00 Uhr PDT)\n	Ort: Mo
 ore Theatre in Seattle (Washington\, USA)\n	Live ansehen: Twitch [URL:http:
 //www.twitch.tv/guildwars2/]\, YouTube [URL:https://www.youtube.com/user/ar
 enanetofficial/live] und Facebook [URL:https://www.facebook.com/GuildWars2/
 live]
DTEND:20190830T173000Z
END:VEVENT
BEGIN:VEVENT
TRANSP:TRANSPARENT
UID:event-2204@gw2community.de
URL:https://gw2community.de/calendar/event/25643-wir-berichten-von-der-mess
 e-gamescom-2019/
DTSTART;VALUE=DATE:20190820
DTSTAMP:20190820T000000Z
CREATED:20190820T000000Z
SUMMARY:Wir berichten von der Messe – gamescom 2019
DESCRIPTION:gamescom 2019 – Wir berichten von der Messe [URL:https://gw2com
 munity.de/forum/board/61-events-ank%C3%BCndigungen/]
DTEND;VALUE=DATE:20190825
END:VEVENT
BEGIN:VEVENT
TRANSP:OPAQUE
UID:event-2416@gw2community.de
URL:https://gw2community.de/calendar/event/26772-zeitumstellung-neue-eventz
 eiten/
DTSTART:20191027T010000Z
DTSTAMP:20191027T010000Z
CREATED:20191027T010000Z
SUMMARY:Zeitumstellung – Neue Eventzeiten!
DESCRIPTION:Zeitumstellung – Neue Eventzeiten!
DTEND:20191027T020000Z
END:VEVENT
BEGIN:VEVENT
TRANSP:TRANSPARENT
UID:event-4937@gw2community.de
URL:https://gw2community.de/calendar/event/29295-ver%C3%B6ffentlichung-end-
 of-dragons/
DTSTART;VALUE=DATE:20220228
DTSTAMP:20220228T000000Z
CREATED:20220228T000000Z
SUMMARY:Veröffentlichung „End of Dragons“
DESCRIPTION:https://www.youtube.com/watch?v=MUpAxUcCpyg
DTEND;VALUE=DATE:20220301
END:VEVENT
BEGIN:VEVENT
TRANSP:OPAQUE
UID:event-5333@gw2community.de
URL:https://gw2community.de/calendar/event/29698-feier-zum-10-jahrestag-von
 -guild-wars-2/
DTSTART:20220825T170000Z
DTSTAMP:20220825T170000Z
CREATED:20220825T170000Z
SUMMARY:Feier zum 10. Jahrestag von Guild Wars 2
DESCRIPTION:ArenaNet veranstaltet parallel zur gamescom 2022 eine Feier zum
  10. Jahrestag von Guild Wars 2. Zur Teilnahme am Event ist ein Ticket notw
 endig! Weitere Infos unter
DTEND:20220825T200000Z
END:VEVENT
BEGIN:VEVENT
TRANSP:OPAQUE
UID:event-6458@gw2community.de
URL:https://gw2community.de/calendar/event/30830-silberw%C3%BCsten-meta-zum
 -maximieren-des-magic-find-und-anschliessend-gemeinsames-ne/
DTSTART:20250216T180000Z
DTSTAMP:20250216T180000Z
CREATED:20250216T180000Z
SUMMARY:Silberwüsten Meta zum Maximieren des Magic Find und anschliessend g
 emeinsames Neujahr-Kuvert öffnen - mit ZdF
LOCATION:TS Kanal ZdF [Zirkel der Finsternis]   Taxi wird dort gestellt
DTEND:20250216T190000Z
END:VEVENT
END:VCALENDAR
