BEGIN:VCALENDAR
METHOD:PUBLISH
VERSION:2.0
PRODID:-//WoltLab GmbH//WoltLab Suite Calendar 5.4//EN
CALSCALE:GREGORIAN
X-WR-CALNAME;VALUE=TEXT:Communitytreffen – gamescom 2019
BEGIN:VEVENT
TRANSP:OPAQUE
UID:event-2177@gw2community.de
URL:https://gw2community.de/calendar/event/25616-communitytreffen-gamescom-
 2019/
DTSTART:20190823T170000Z
DTSTAMP:20190823T170000Z
CREATED:20190823T170000Z
SUMMARY:Communitytreffen – gamescom 2019
DESCRIPTION:Ihr habt Lust auf gemütliches Beisammensein\, Kennenlernen\, Sp
 aßhaben\, Essen\, Trinken\, Quatschen und was uns sonst noch alles einfällt
 ? Dann haltet Euch unbedingt den Abend am Freitag\, den 23. August 2019 fre
 i. Wir möchten uns mit Euch an altbewährter Stelle für unser gamescom-Commu
 nitytreffen treffen: Dem Biergarten „Am Aachener Weiher“ in Köln (Anmerkung
 : Im Biergarten wird lediglich Bargeld angenommen).\n\n\nTreffen auf der ga
 mescom 2018\n\nDer Biergarten liegt außerhalb des Messegeländes und ist mit
  öffentlichen Verkehrsmitteln oder PKW gut zu erreichen. Weitere Infos werd
 en wir kurz vor der Messe bekanntgeben. Damit wir besser planen können\, fr
 euen wir uns\, wenn Ihr uns mitteilt\, ob Ihr Interesse am Communitytreffen
  habt und gerne teilnehmen möchtet. Gerne könnt Ihr euch in diesem Termin b
 ereits als Teilnehmer eintragen:
DTEND:20190823T210000Z
END:VEVENT
END:VCALENDAR
