BEGIN:VCALENDAR
METHOD:PUBLISH
VERSION:2.0
PRODID:-//WoltLab GmbH//WoltLab Suite Calendar 5.4//EN
CALSCALE:GREGORIAN
X-WR-CALNAME;VALUE=TEXT:Bjora-Sümpfe (LW/PoF)
BEGIN:VEVENT
TRANSP:OPAQUE
UID:event-2804@gw2community.de
URL:https://gw2community.de/calendar/event/27160-bjora-s%C3%BCmpfe-lw-pof/
DTSTART:20200129T165000Z
DTSTAMP:20200129T165000Z
CREATED:20200129T165000Z
SUMMARY:Bjora-Sümpfe (LW/PoF)
DESCRIPTION:Wir werden beide Metas anbieten
DTEND:20200129T180500Z
END:VEVENT
END:VCALENDAR
