BEGIN:VCALENDAR
METHOD:PUBLISH
VERSION:2.0
PRODID:-//WoltLab GmbH//WoltLab Suite Calendar 5.4//EN
CALSCALE:GREGORIAN
X-WR-CALNAME;VALUE=TEXT:[Living World] Story & Erfolge Living World
BEGIN:VEVENT
TRANSP:OPAQUE
UID:event-309@gw2community.de
URL:https://gw2community.de/calendar/event/21012-living-world-story-erfolge
 -living-world/
DTSTART:20170809T200000Z
DTSTAMP:20170809T200000Z
CREATED:20170809T200000Z
SUMMARY:[Living World] Story & Erfolge Living World
DESCRIPTION:organisiert von gw2ts.de
DTEND:20170809T215900Z
RRULE:FREQ=WEEKLY;INTERVAL=1;BYDAY=WE;WKST=MO;UNTIL=20171029
END:VEVENT
END:VCALENDAR
