BEGIN:VCALENDAR
METHOD:PUBLISH
VERSION:2.0
PRODID:-//WoltLab GmbH//WoltLab Suite Calendar 5.4//EN
CALSCALE:GREGORIAN
X-WR-CALNAME;VALUE=TEXT:Silberwüste RIBA
BEGIN:VEVENT
TRANSP:OPAQUE
UID:event-3095@gw2community.de
URL:https://gw2community.de/calendar/event/27452-silberw%C3%BCste-riba/
DTSTART:20200409T163000Z
DTSTAMP:20200409T163000Z
CREATED:20200409T163000Z
SUMMARY:Silberwüste RIBA
DESCRIPTION:Großes Aufräumen in der Tockenkuppe. Beim T6-Run heißt es mal w
 ieder „ohne blassen Dunst“ ordentlich Geoden und Loot abstauben.
LOCATION:auf dem gw2ts.de
DTEND:20200409T180000Z
END:VEVENT
END:VCALENDAR
