BEGIN:VCALENDAR
METHOD:PUBLISH
VERSION:2.0
PRODID:-//WoltLab GmbH//WoltLab Suite Calendar 5.4//EN
CALSCALE:GREGORIAN
X-WR-CALNAME;VALUE=TEXT:LW3 \"Dailies\" (LW/HoT)
BEGIN:VEVENT
TRANSP:OPAQUE
UID:event-3115@gw2community.de
URL:https://gw2community.de/calendar/event/27472-lw3-dailies-lw-hot/
DTSTART:20200414T154000Z
DTSTAMP:20200414T154000Z
CREATED:20200414T154000Z
SUMMARY:LW3 \"Dailies\" (LW/HoT)
DESCRIPTION:Täglich rotieren Erfolge für die Karten der Lebendigen Welt\, j
 eweils für Staffel 3 und Staffel 4.\nWir wollen mit Euch zusammen diese Dai
 lies machen. Und wo wir schon dabei sind\, nehmen wir auch einige der schön
 en Events oder auch Erfolge mit.
DTEND:20200414T171500Z
END:VEVENT
END:VCALENDAR
