BEGIN:VCALENDAR
METHOD:PUBLISH
VERSION:2.0
PRODID:-//WoltLab GmbH//WoltLab Suite Calendar 5.4//EN
CALSCALE:GREGORIAN
X-WR-CALNAME;VALUE=TEXT:LW4 \"Dailies\" (LW/PoF)
BEGIN:VEVENT
TRANSP:OPAQUE
UID:event-3121@gw2community.de
URL:https://gw2community.de/calendar/event/27478-lw4-dailies-lw-pof/
DTSTART:20200415T174000Z
DTSTAMP:20200415T174000Z
CREATED:20200415T174000Z
SUMMARY:LW4 \"Dailies\" (LW/PoF)
DESCRIPTION:Täglich rotieren Erfolge für die Karten der Lebendigen Welt\, j
 eweils für Staffel 3 und Staffel 4.\nWir wollen mit Euch zusammen diese Dai
 lies machen. Und wo wir schon dabei sind\, nehmen wir auch einige der schön
 en Events oder auch Erfolge mit.
DTEND:20200415T191500Z
END:VEVENT
END:VCALENDAR
