BEGIN:VCALENDAR
METHOD:PUBLISH
VERSION:2.0
PRODID:-//WoltLab GmbH//WoltLab Suite Calendar 5.4//EN
CALSCALE:GREGORIAN
X-WR-CALNAME;VALUE=TEXT:Nostalgische Verschlungene Tiefen (HoT)
BEGIN:VEVENT
TRANSP:OPAQUE
UID:event-3484@gw2community.de
URL:https://gw2community.de/calendar/event/27841-nostalgische-verschlungene
 -tiefen-hot/
DTSTART:20200719T124000Z
DTSTAMP:20200719T124000Z
CREATED:20200719T124000Z
SUMMARY:Nostalgische Verschlungene Tiefen (HoT)
LOCATION:auf dem gw2ts.de
DTEND:20200719T144000Z
END:VEVENT
END:VCALENDAR
