BEGIN:VCALENDAR
METHOD:PUBLISH
VERSION:2.0
PRODID:-//WoltLab GmbH//WoltLab Suite Calendar 5.4//EN
CALSCALE:GREGORIAN
X-WR-CALNAME;VALUE=TEXT:Nieselwald-Küste
BEGIN:VEVENT
TRANSP:OPAQUE
UID:event-3509@gw2community.de
URL:https://gw2community.de/calendar/event/27866-nieselwald-k%C3%BCste/
DTSTART:20200730T150000Z
DTSTAMP:20200730T150000Z
CREATED:20200730T150000Z
SUMMARY:Nieselwald-Küste
DTEND:20200730T180000Z
END:VEVENT
END:VCALENDAR
