BEGIN:VCALENDAR
METHOD:PUBLISH
VERSION:2.0
PRODID:-//WoltLab GmbH//WoltLab Suite Calendar 5.4//EN
CALSCALE:GREGORIAN
X-WR-CALNAME;VALUE=TEXT:Klassenschulung: Heilungs-Schnelligkeit-Aufwiegler 
 in Schlachtzügen
BEGIN:VEVENT
TRANSP:OPAQUE
UID:event-3579@gw2community.de
URL:https://gw2community.de/calendar/event/27936-klassenschulung-heilungs-s
 chnelligkeit-aufwiegler-in-schlachtz%C3%BCgen/
DTSTART:20200922T170000Z
DTSTAMP:20200922T170000Z
CREATED:20200922T170000Z
SUMMARY:Klassenschulung: Heilungs-Schnelligkeit-Aufwiegler in Schlachtzügen
DESCRIPTION:Es wird ein Überblick über die Rolle des Heilungs-Schnelligkeit
 -Aufwieglers in den Schlachtzügen gegeben.
LOCATION:Teamspeak gw2ts.de
DTEND:20200922T180000Z
END:VEVENT
END:VCALENDAR
