BEGIN:VCALENDAR
METHOD:PUBLISH
VERSION:2.0
PRODID:-//WoltLab GmbH//WoltLab Suite Calendar 5.4//EN
CALSCALE:GREGORIAN
X-WR-CALNAME;VALUE=TEXT:Fraktale
BEGIN:VEVENT
TRANSP:OPAQUE
UID:event-3718@gw2community.de
URL:https://gw2community.de/calendar/event/28075-fraktale/
DTSTART:20201011T123000Z
DTSTAMP:20201011T123000Z
CREATED:20201011T123000Z
SUMMARY:Fraktale
DESCRIPTION:\"Ob Einsteiger oder Veteran\, ob Erfolge oder Dailies\, mit un
 s in den Fraktalen kommt jeder auf seine Kosten.\"
LOCATION:auf dem gw2ts.de
DTEND:20201011T140000Z
END:VEVENT
END:VCALENDAR
