BEGIN:VCALENDAR
METHOD:PUBLISH
VERSION:2.0
PRODID:-//WoltLab GmbH//WoltLab Suite Calendar 5.4//EN
CALSCALE:GREGORIAN
X-WR-CALNAME;VALUE=TEXT:Die Eisbrut-Saga: Champions – Kapitel 1: Waffenstil
 lstand (LW/PoF)
BEGIN:VEVENT
TRANSP:OPAQUE
UID:event-3812@gw2community.de
URL:https://gw2community.de/calendar/event/28169-die-eisbrut-saga-champions
 -kapitel-1-waffenstillstand-lw-pof/
DTSTART:20201117T170000Z
DTSTAMP:20201117T170000Z
CREATED:20201117T170000Z
SUMMARY:Die Eisbrut-Saga: Champions – Kapitel 1: Waffenstillstand (LW/PoF)
DTEND:20201117T193000Z
END:VEVENT
END:VCALENDAR
