BEGIN:VCALENDAR
METHOD:PUBLISH
VERSION:2.0
PRODID:-//WoltLab GmbH//WoltLab Suite Calendar 5.4//EN
CALSCALE:GREGORIAN
X-WR-CALNAME;VALUE=TEXT:Grasgrüne Schwelle HPs\, Schatullen (HoT)
BEGIN:VEVENT
TRANSP:OPAQUE
UID:event-3816@gw2community.de
URL:https://gw2community.de/calendar/event/28173-grasgr%C3%BCne-schwelle-hp
 s-schatullen-hot/
DTSTART:20201118T183000Z
DTSTAMP:20201118T183000Z
CREATED:20201118T183000Z
SUMMARY:Grasgrüne Schwelle HPs\, Schatullen (HoT)
LOCATION:auf dem gw2ts.de
DTEND:20201118T200000Z
END:VEVENT
END:VCALENDAR
