BEGIN:VCALENDAR
METHOD:PUBLISH
VERSION:2.0
PRODID:-//WoltLab GmbH//WoltLab Suite Calendar 5.4//EN
CALSCALE:GREGORIAN
X-WR-CALNAME;VALUE=TEXT:Glänzige Rotation: Nieselwald-Küste
BEGIN:VEVENT
TRANSP:OPAQUE
UID:event-4683@gw2community.de
URL:https://gw2community.de/calendar/event/29041-gl%C3%A4nzige-rotation-nie
 selwald-k%C3%BCste/
DTSTART:20211022T183000Z
DTSTAMP:20211022T183000Z
CREATED:20211022T183000Z
SUMMARY:Glänzige Rotation: Nieselwald-Küste
DESCRIPTION:Nasse Katzen\, massig Loot\, viele Außenposten und Charr\, die 
 sich gegenseitig auf die Nuss hauen. Nach dem Event wird Dein Inventar gefü
 llt sein! Und Spaß gibt es auch an der Nieselwald-Küste mit Eurer deutschsp
 rachigen GW2Community.
LOCATION:auf dem gw2ts.de
DTEND:20211022T203000Z
END:VEVENT
END:VCALENDAR
