BEGIN:VCALENDAR
METHOD:PUBLISH
VERSION:2.0
PRODID:-//WoltLab GmbH//WoltLab Suite Calendar 5.4//EN
CALSCALE:GREGORIAN
X-WR-CALNAME;VALUE=TEXT:[Geburtstag] Fuchsspiele im Drachen-Ende
BEGIN:VEVENT
TRANSP:OPAQUE
UID:event-5163@gw2community.de
URL:https://gw2community.de/calendar/event/29526-geburtstag-fuchsspiele-im-
 drachen-ende/
DTSTART:20220505T140000Z
DTSTAMP:20220505T140000Z
CREATED:20220505T140000Z
SUMMARY:[Geburtstag] Fuchsspiele im Drachen-Ende
DESCRIPTION:Erfolg: Totenspiel
LOCATION:auf dem gw2ts.de
DTEND:20220505T160000Z
END:VEVENT
END:VCALENDAR
