BEGIN:VCALENDAR
METHOD:PUBLISH
VERSION:2.0
PRODID:-//WoltLab GmbH//WoltLab Suite Calendar 5.4//EN
CALSCALE:GREGORIAN
X-WR-CALNAME;VALUE=TEXT:[Geburtstag] Community-Angeln
BEGIN:VEVENT
TRANSP:OPAQUE
UID:event-5165@gw2community.de
URL:https://gw2community.de/calendar/event/29528-geburtstag-community-angel
 n/
DTSTART:20220506T160000Z
DTSTAMP:20220506T160000Z
CREATED:20220506T160000Z
SUMMARY:[Geburtstag] Community-Angeln
DESCRIPTION:<table><tbody><tr><td><br></td><td>Angeltour mit der Community<
 /td></tr></tbody></table>
LOCATION:auf dem gw2ts.de
DTEND:20220506T190000Z
END:VEVENT
END:VCALENDAR
