BEGIN:VCALENDAR
METHOD:PUBLISH
VERSION:2.0
PRODID:-//WoltLab GmbH//WoltLab Suite Calendar 5.4//EN
CALSCALE:GREGORIAN
X-WR-CALNAME;VALUE=TEXT:Schlachtzüge
BEGIN:VEVENT
TRANSP:OPAQUE
UID:event-5519@gw2community.de
URL:https://gw2community.de/calendar/event/29884-schlachtz%C3%BCge/
DTSTART:20221220T190000Z
DTSTAMP:20221220T190000Z
CREATED:20221220T190000Z
SUMMARY:Schlachtzüge
DESCRIPTION:ALAAARRM! Zeit zum Raiden! Ob Anfänger oder Erfahrene\, hier ko
 mmen alle auf ihre Kosten.
DTEND:20221220T220000Z
RRULE:FREQ=WEEKLY;INTERVAL=1;BYDAY=TU;WKST=MO;COUNT=2
END:VEVENT
END:VCALENDAR
