BEGIN:VCALENDAR
METHOD:PUBLISH
VERSION:2.0
PRODID:-//WoltLab GmbH//WoltLab Suite Calendar 5.4//EN
CALSCALE:GREGORIAN
X-WR-CALNAME;VALUE=TEXT:Gemeinsam in Neue Abenteuer (EoD)
BEGIN:VEVENT
TRANSP:OPAQUE
UID:event-5594@gw2community.de
URL:https://gw2community.de/calendar/event/29960-gemeinsam-in-neue-abenteue
 r-eod/
DTSTART:20230228T180000Z
DTSTAMP:20230228T180000Z
CREATED:20230228T180000Z
SUMMARY:Gemeinsam in Neue Abenteuer (EoD)
DTEND:20230228T200000Z
END:VEVENT
END:VCALENDAR
