BEGIN:VCALENDAR
METHOD:PUBLISH
VERSION:2.0
PRODID:-//WoltLab GmbH//WoltLab Suite Calendar 5.4//EN
CALSCALE:GREGORIAN
X-WR-CALNAME;VALUE=TEXT:Gyala- Senke (EoD)
BEGIN:VEVENT
TRANSP:OPAQUE
UID:event-5600@gw2community.de
URL:https://gw2community.de/calendar/event/29966-gyala-senke-eod/
DTSTART:20230310T163000Z
DTSTAMP:20230310T163000Z
CREATED:20230310T163000Z
SUMMARY:Gyala- Senke (EoD)
DTEND:20230310T180000Z
END:VEVENT
END:VCALENDAR
