BEGIN:VCALENDAR
METHOD:PUBLISH
VERSION:2.0
PRODID:-//WoltLab GmbH//WoltLab Suite Calendar 5.4//EN
CALSCALE:GREGORIAN
X-WR-CALNAME;VALUE=TEXT:Adventskalender
BEGIN:VEVENT
TRANSP:OPAQUE
UID:event-5875@gw2community.de
URL:https://gw2community.de/calendar/event/30243-adventskalender/
DTSTART:20231130T230000Z
DTSTAMP:20231130T230000Z
CREATED:20231130T230000Z
SUMMARY:Adventskalender
DTEND:20231224T225900Z
END:VEVENT
END:VCALENDAR
