BEGIN:VCALENDAR
METHOD:PUBLISH
VERSION:2.0
PRODID:-//WoltLab GmbH//WoltLab Suite Calendar 5.4//EN
CALSCALE:GREGORIAN
X-WR-CALNAME;VALUE=TEXT:Wöchentliche Rissjagd (Nur SotO Karten)
BEGIN:VEVENT
TRANSP:OPAQUE
UID:event-5899@gw2community.de
URL:https://gw2community.de/calendar/event/30267-w%C3%B6chentliche-rissjagd
 -nur-soto-karten/
DTSTART:20231220T190000Z
DTSTAMP:20231220T190000Z
CREATED:20231220T190000Z
SUMMARY:Wöchentliche Rissjagd (Nur SotO Karten)
DTEND:20231220T200000Z
END:VEVENT
END:VCALENDAR
