BEGIN:VCALENDAR
METHOD:PUBLISH
VERSION:2.0
PRODID:-//WoltLab GmbH//WoltLab Suite Calendar 5.4//EN
CALSCALE:GREGORIAN
X-WR-CALNAME;VALUE=TEXT:Angriffsmissionen (PoF/EoD/SotO)
BEGIN:VEVENT
TRANSP:OPAQUE
UID:event-5900@gw2community.de
URL:https://gw2community.de/calendar/event/30268-angriffsmissionen-pof-eod-
 soto/
DTSTART:20231223T150000Z
DTSTAMP:20231223T150000Z
CREATED:20231223T150000Z
SUMMARY:Angriffsmissionen (PoF/EoD/SotO)
LOCATION:auf dem gw2ts.de
DTEND:20231223T170000Z
END:VEVENT
END:VCALENDAR
