BEGIN:VCALENDAR
METHOD:PUBLISH
VERSION:2.0
PRODID:-//WoltLab GmbH//WoltLab Suite Calendar 5.4//EN
CALSCALE:GREGORIAN
X-WR-CALNAME;VALUE=TEXT:Map Clear: Himmelswacht-Archipel (SotO)
BEGIN:VEVENT
TRANSP:OPAQUE
UID:event-5904@gw2community.de
URL:https://gw2community.de/calendar/event/30272-map-clear-himmelswacht-arc
 hipel-soto/
DTSTART:20231227T150000Z
DTSTAMP:20231227T150000Z
CREATED:20231227T150000Z
SUMMARY:Map Clear: Himmelswacht-Archipel (SotO)
LOCATION:auf dem gw2ts.de
DTEND:20231227T170000Z
END:VEVENT
END:VCALENDAR
