BEGIN:VCALENDAR
METHOD:PUBLISH
VERSION:2.0
PRODID:-//WoltLab GmbH//WoltLab Suite Calendar 5.4//EN
CALSCALE:GREGORIAN
X-WR-CALNAME;VALUE=TEXT:Verlies-Ansturm: kompletter Storymodus
BEGIN:VEVENT
TRANSP:OPAQUE
UID:event-5916@gw2community.de
URL:https://gw2community.de/calendar/event/30284-verlies-ansturm-kompletter
 -storymodus/
DTSTART:20231209T113000Z
DTSTAMP:20231209T113000Z
CREATED:20231209T113000Z
SUMMARY:Verlies-Ansturm: kompletter Storymodus
DESCRIPTION:Für alle\, die noch einen Charakter durch den Storymodus jedes 
 Verlieses bringen möchten.  :)
LOCATION:Löwenstein
DTEND:20231209T140000Z
END:VEVENT
END:VCALENDAR
