BEGIN:VCALENDAR
METHOD:PUBLISH
VERSION:2.0
PRODID:-//WoltLab GmbH//WoltLab Suite Calendar 5.4//EN
CALSCALE:GREGORIAN
X-WR-CALNAME;VALUE=TEXT:Private Konvergenz
BEGIN:VEVENT
TRANSP:OPAQUE
UID:event-5917@gw2community.de
URL:https://gw2community.de/calendar/event/30285-private-konvergenz/
DTSTART:20231210T170000Z
DTSTAMP:20231210T170000Z
CREATED:20231210T170000Z
SUMMARY:Private Konvergenz
DTEND:20231210T190000Z
RRULE:FREQ=WEEKLY;INTERVAL=1;BYDAY=SU;WKST=MO;UNTIL=20231229
END:VEVENT
END:VCALENDAR
