BEGIN:VCALENDAR
METHOD:PUBLISH
VERSION:2.0
PRODID:-//WoltLab GmbH//WoltLab Suite Calendar 5.4//EN
CALSCALE:GREGORIAN
X-WR-CALNAME;VALUE=TEXT:Spielbalance-Update
BEGIN:VEVENT
TRANSP:OPAQUE
UID:event-5941@gw2community.de
URL:https://gw2community.de/calendar/event/30313-spielbalance-update/
DTSTART:20240130T170000Z
DTSTAMP:20240130T170000Z
CREATED:20240130T170000Z
SUMMARY:Spielbalance-Update
DESCRIPTION:Alle Details zum Update werden in unserem Forum für Update-Note
 s zum Spiel veröffentlicht.
DTEND:20240130T170100Z
END:VEVENT
END:VCALENDAR
