BEGIN:VCALENDAR
METHOD:PUBLISH
VERSION:2.0
PRODID:-//WoltLab GmbH//WoltLab Suite Calendar 5.4//EN
CALSCALE:GREGORIAN
X-WR-CALNAME;VALUE=TEXT:Beta-Test der Welten-Umstrukturierung
BEGIN:VEVENT
TRANSP:OPAQUE
UID:event-5946@gw2community.de
URL:https://gw2community.de/calendar/event/30318-beta-test-der-welten-umstr
 ukturierung/
DTSTART:20240112T080000Z
DTSTAMP:20240112T080000Z
CREATED:20240112T080000Z
SUMMARY:Beta-Test der Welten-Umstrukturierung
DESCRIPTION:Die Beta läuft von Freitag\, den 12. Januar bis Freitag\, den 2
 . Februar\, und zwar jeweils von und bis zur gewohnten WvW-Reset-Zeit eurer
  Region.\n\n\n\nHier könnt ihr mehr lesen und Feedback hinterlassen.
DTEND:20240202T080000Z
END:VEVENT
END:VCALENDAR
