BEGIN:VCALENDAR
METHOD:PUBLISH
VERSION:2.0
PRODID:-//WoltLab GmbH//WoltLab Suite Calendar 5.4//EN
CALSCALE:GREGORIAN
X-WR-CALNAME;VALUE=TEXT:PvP-Ansturm-Event: 23. bis 30. Januar
BEGIN:VEVENT
TRANSP:OPAQUE
UID:event-5948@gw2community.de
URL:https://gw2community.de/calendar/event/30320-pvp-ansturm-event-23-bis-3
 0-januar/
DTSTART:20240123T080000Z
DTSTAMP:20240123T080000Z
CREATED:20240123T080000Z
SUMMARY:PvP-Ansturm-Event: 23. bis 30. Januar
DESCRIPTION:Tyrianer – bereitet euch auf das nächste PvP-Ansturm-Event vor\
 , das am kommenden Dienstag\, den 23. bis 30. Januar\, stattfindet! Sprecht
  mit Zafirah in Löwenstein\, sobald das Event beginnt.
DTEND:20240130T080000Z
END:VEVENT
END:VCALENDAR
