BEGIN:VCALENDAR
METHOD:PUBLISH
VERSION:2.0
PRODID:-//WoltLab GmbH//WoltLab Suite Calendar 5.4//EN
CALSCALE:GREGORIAN
X-WR-CALNAME;VALUE=TEXT:WvW-Neuverbindung
BEGIN:VEVENT
TRANSP:TRANSPARENT
UID:event-5964@gw2community.de
URL:https://gw2community.de/calendar/event/30336-wvw-neuverbindung/
DTSTART;VALUE=DATE:20240329
DTSTAMP:20240329T000000Z
CREATED:20240329T000000Z
SUMMARY:WvW-Neuverbindung
DESCRIPTION:Anstehende Termine für WvW-Neuverbindungen
END:VEVENT
END:VCALENDAR
