BEGIN:VCALENDAR
METHOD:PUBLISH
VERSION:2.0
PRODID:-//WoltLab GmbH//WoltLab Suite Calendar 5.4//EN
CALSCALE:GREGORIAN
X-WR-CALNAME;VALUE=TEXT:Livestream-Vorschau: Erweiterte Waffen-Kenntnisse/V
 orschau auf Spielbalance-Update März
BEGIN:VEVENT
TRANSP:OPAQUE
UID:event-5981@gw2community.de
URL:https://gw2community.de/calendar/event/30353-livestream-vorschau-erweit
 erte-waffen-kenntnisse-vorschau-auf-spielbalance-updat/
DTSTART:20240216T200000Z
DTSTAMP:20240216T200000Z
CREATED:20240216T200000Z
SUMMARY:Livestream-Vorschau: Erweiterte Waffen-Kenntnisse/Vorschau auf Spie
 lbalance-Update März
DESCRIPTION:Feb 16 Livestream announce calendar text Besucht den Twitch-Kan
 al von Guild Wars 2 am Freitag\, dem 16. Februar um 21 Uhr MEZ (12 Uhr PT)!
  Taylor Brooks\, Roy Marks und Cal Cohen werden über die Änderungen an den 
 erweiterten Waffen-Kenntnissen sprechen und eine Vorschau auf das Spielbala
 nce-Update vom März bieten!
DTEND:20240216T200000Z
END:VEVENT
END:VCALENDAR
