BEGIN:VCALENDAR
METHOD:PUBLISH
VERSION:2.0
PRODID:-//WoltLab GmbH//WoltLab Suite Calendar 5.4//EN
CALSCALE:GREGORIAN
X-WR-CALNAME;VALUE=TEXT:Bonus-Event „Rückkehr zu Staffel 2“
BEGIN:VEVENT
TRANSP:OPAQUE
UID:event-5995@gw2community.de
URL:https://gw2community.de/calendar/event/30367-bonus-event-r%C3%BCckkehr-
 zu-staffel-2/
DTSTART:20240326T160000Z
DTSTAMP:20240326T160000Z
CREATED:20240326T160000Z
SUMMARY:Bonus-Event „Rückkehr zu Staffel 2“
DESCRIPTION:Kehrt von 26. März bis 2. April in die Lebendige Welt: Staffel 
 2 zurück\, um euch Bonus-Erfolge und Belohnungen zu sichern! Ihr erhaltet I
 ngame-Post mit Anweisungen zur Teilnahme\, wenn das Event beginnt\, und ver
 gesst nicht\, euch ab 26. März die Erfolge-Kategorie „Bonus-Events“ im Spie
 l anzusehen.
DTEND:20240402T160000Z
END:VEVENT
END:VCALENDAR
