BEGIN:VCALENDAR
METHOD:PUBLISH
VERSION:2.0
PRODID:-//WoltLab GmbH//WoltLab Suite Calendar 5.4//EN
CALSCALE:GREGORIAN
X-WR-CALNAME;VALUE=TEXT:Guild Wars 2-Spielaktualisierung
BEGIN:VEVENT
TRANSP:TRANSPARENT
UID:event-5997@gw2community.de
URL:https://gw2community.de/calendar/event/30369-guild-wars-2-spielaktualis
 ierung/
DTSTART;VALUE=DATE:20240319
DTSTAMP:20240319T000000Z
CREATED:20240319T000000Z
SUMMARY:Guild Wars 2-Spielaktualisierung
DESCRIPTION:Die Spielaktualisierung vom 19. März umfasst:\n\n\n\n\n		Fertig
 keiten- und Spielbalance-Update\n	\n	\n		Verbesserungen der Postprocessing-
 Grafikoptionen\n	\n	\n		Erweiterte Champion-Erfolge im PvP\n	\n	\n		Erweite
 rte Erfolge für Rächer des Reiches im WvW\n	\n	\n		Fürsten-Update im WvW\n	
 \n	\n		Beherrschungs-Update „Adel verpflichtet“\n\n\n\n\nWeitere Details fi
 ndet ihr im Abschnitt „19. März: System-Update“ der aktuellen Ausgabe von „
 Neues aus dem Studio“.
END:VEVENT
END:VCALENDAR
