BEGIN:VCALENDAR
METHOD:PUBLISH
VERSION:2.0
PRODID:-//WoltLab GmbH//WoltLab Suite Calendar 5.4//EN
CALSCALE:GREGORIAN
X-WR-CALNAME;VALUE=TEXT:Bonus-Event „Fraktal-Ansturm“
BEGIN:VEVENT
TRANSP:OPAQUE
UID:event-5998@gw2community.de
URL:https://gw2community.de/calendar/event/30370-bonus-event-fraktal-anstur
 m/
DTSTART:20240312T160000Z
DTSTAMP:20240312T160000Z
CREATED:20240312T160000Z
SUMMARY:Bonus-Event „Fraktal-Ansturm“
DESCRIPTION:Das Bonus-Event „Fraktal-Ansturm“ läuft von 12. bis 19. März. S
 chließt während der Event-Woche Fraktale der Nebel ab\, um zusätzliche Belo
 hnungen und Erfolge zu erhalten! Ihr erhaltet Ingame-Post mit Anweisungen z
 ur Teilnahme\, wenn das Event beginnt\, und vergesst nicht\, euch ab 12. Mä
 rz die Erfolge-Kategorie „Bonus-Events“ im Spiel anzusehen.
DTEND:20240319T160000Z
END:VEVENT
END:VCALENDAR
