BEGIN:VCALENDAR
METHOD:PUBLISH
VERSION:2.0
PRODID:-//WoltLab GmbH//WoltLab Suite Calendar 5.4//EN
CALSCALE:GREGORIAN
X-WR-CALNAME;VALUE=TEXT:„Das Reich der Träume“ erscheint am 27. Februar
BEGIN:VEVENT
TRANSP:TRANSPARENT
UID:event-6000@gw2community.de
URL:https://gw2community.de/calendar/event/30372-das-reich-der-tr%C3%A4ume-
 erscheint-am-27-februar/
DTSTART;VALUE=DATE:20240227
DTSTAMP:20240227T000000Z
CREATED:20240227T000000Z
SUMMARY:„Das Reich der Träume“ erscheint am 27. Februar
DESCRIPTION:„Das Reich der Träume“\, das zweite große Update zu Guild Wars 
 2®: Secrets of the Obscure™\, erscheint am 27. Februar! Erfahrt mehr in uns
 erem aktuellen „Neues aus dem Studio“.
END:VEVENT
END:VCALENDAR
