BEGIN:VCALENDAR
METHOD:PUBLISH
VERSION:2.0
PRODID:-//WoltLab GmbH//WoltLab Suite Calendar 5.4//EN
CALSCALE:GREGORIAN
X-WR-CALNAME;VALUE=TEXT:Twitch Drops starten am 27. Februar
BEGIN:VEVENT
TRANSP:OPAQUE
UID:event-6002@gw2community.de
URL:https://gw2community.de/calendar/event/30374-twitch-drops-starten-am-27
 -februar/
DTSTART:20240227T170000Z
DTSTAMP:20240227T170000Z
CREATED:20240227T170000Z
SUMMARY:Twitch Drops starten am 27. Februar
DESCRIPTION:Wir feiern den Release von „Das Reich der Träume“ mit Twitch Dr
 ops! Von 27. Februar um 18 Uhr MESZ (9 Uhr PST) bis 4. März um 8:59 Uhr MES
 Z (3. März 23:59 Uhr PST) erhaltet ihr ein kostenloses Komfort-Set\, indem 
 ihr euch Twitch-Kanäle anseht\, die Guild Wars 2-Inhalte senden!\n\n\n\nDas
  Komfort-Set enthält:\n\n\n\n\n		Nebelsperren-Zuflucht-Schlüssel (2 Wochen)
 \n	\n	\n		(5x) Handelsposten-Express\n	\n	\n		(5x) Kaufmanns-Express\n	\n	\
 n		(5x) Bankzugriff-Express\n\n\n\n\nBesucht unsere Twitch Drops-Seite\, um
  mehr zu erfahren und euer Konto zu verknüpfen!
DTEND:20240304T075900Z
END:VEVENT
END:VCALENDAR
