BEGIN:VCALENDAR
METHOD:PUBLISH
VERSION:2.0
PRODID:-//WoltLab GmbH//WoltLab Suite Calendar 5.4//EN
CALSCALE:GREGORIAN
X-WR-CALNAME;VALUE=TEXT:„Das Reich der Träume“ ist nun verfügbar!
BEGIN:VEVENT
TRANSP:TRANSPARENT
UID:event-6017@gw2community.de
URL:https://gw2community.de/calendar/event/30389-das-reich-der-tr%C3%A4ume-
 ist-nun-verf%C3%BCgbar/
DTSTART;VALUE=DATE:20240227
DTSTAMP:20240227T000000Z
CREATED:20240227T000000Z
SUMMARY:„Das Reich der Träume“ ist nun verfügbar!
DESCRIPTION:„Das Reich der Träume“\, das zweite große Update zu Guild Wars 
 2®: Secrets of the Obscure™\, ist nun verfügbar! Lest hier alles über diese
 s Update\, und wir sehen uns im Spiel!
END:VEVENT
END:VCALENDAR
