BEGIN:VCALENDAR
METHOD:PUBLISH
VERSION:2.0
PRODID:-//WoltLab GmbH//WoltLab Suite Calendar 5.4//EN
CALSCALE:GREGORIAN
X-WR-CALNAME;VALUE=TEXT:Angebot: Die ersten 3 Erweiterungen zu Guild Wars 2
BEGIN:VEVENT
TRANSP:OPAQUE
UID:event-6042@gw2community.de
URL:https://gw2community.de/calendar/event/30414-angebot-die-ersten-3-erwei
 terungen-zu-guild-wars-2/
DTSTART:20240314T170000Z
DTSTAMP:20240314T170000Z
CREATED:20240314T170000Z
SUMMARY:Angebot: Die ersten 3 Erweiterungen zu Guild Wars 2
DESCRIPTION:Erhaltet beeindruckende Rabatte auf unsere ersten drei Erweiter
 ungen zu Guild Wars 2 bis 21. März 18 Uhr MEZ (10 Uhr PDT). Der Rabatt ist 
 verfügbar auf buy.guildwars2.com sowie bei ausgewählten Drittanbietern. Die
  Liste aller Anbieter und alle Einzelheiten findet ihr auf: https://www.gui
 ldwars2.com/news/spring-into-some-seasonal-sales/
DTEND:20240321T170000Z
END:VEVENT
END:VCALENDAR
