BEGIN:VCALENDAR
METHOD:PUBLISH
VERSION:2.0
PRODID:-//WoltLab GmbH//WoltLab Suite Calendar 5.4//EN
CALSCALE:GREGORIAN
X-WR-CALNAME;VALUE=TEXT:Bonus-Event „Rückkehr zu Staffel 3“
BEGIN:VEVENT
TRANSP:OPAQUE
UID:event-6121@gw2community.de
URL:https://gw2community.de/calendar/event/30493-bonus-event-r%C3%BCckkehr-
 zu-staffel-3/
DTSTART:20240723T160000Z
DTSTAMP:20240723T160000Z
CREATED:20240723T160000Z
SUMMARY:Bonus-Event „Rückkehr zu Staffel 3“
DESCRIPTION:Kehrt vom 23. bis 30. Juli in die Lebendige Welt: Staffel 3 zur
 ück\, um euch Bonus-Erfolge und Belohnungen zu sichern!
DTEND:20240730T160000Z
END:VEVENT
END:VCALENDAR
