BEGIN:VCALENDAR
METHOD:PUBLISH
VERSION:2.0
PRODID:-//WoltLab GmbH//WoltLab Suite Calendar 5.4//EN
CALSCALE:GREGORIAN
X-WR-CALNAME;VALUE=TEXT:Bonus-Event „PvP-Ansturm“
BEGIN:VEVENT
TRANSP:OPAQUE
UID:event-6122@gw2community.de
URL:https://gw2community.de/calendar/event/30494-bonus-event-pvp-ansturm/
DTSTART:20240716T160000Z
DTSTAMP:20240716T160000Z
CREATED:20240716T160000Z
SUMMARY:Bonus-Event „PvP-Ansturm“
DESCRIPTION:Der PvP-Ansturm kehrt vom 16. bis 23. Juni zurück und bringt ei
 ne ganze Woche lang Bonus-Erfolge und -Belohnungen!
DTEND:20240723T160000Z
END:VEVENT
END:VCALENDAR
