BEGIN:VCALENDAR
METHOD:PUBLISH
VERSION:2.0
PRODID:-//WoltLab GmbH//WoltLab Suite Calendar 5.4//EN
CALSCALE:GREGORIAN
X-WR-CALNAME;VALUE=TEXT:Bonus-Event „Verlies-Ansturm“
BEGIN:VEVENT
TRANSP:OPAQUE
UID:event-6123@gw2community.de
URL:https://gw2community.de/calendar/event/30495-bonus-event-verlies-anstur
 m/
DTSTART:20240709T160000Z
DTSTAMP:20240709T160000Z
CREATED:20240709T160000Z
SUMMARY:Bonus-Event „Verlies-Ansturm“
DESCRIPTION:Vom 9. bis 16. Juli kehrt das Bonus-Event „Verlies-Ansturm“ zur
 ück in Guild Wars 2!
DTEND:20240716T160000Z
END:VEVENT
END:VCALENDAR
