BEGIN:VCALENDAR
METHOD:PUBLISH
VERSION:2.0
PRODID:-//WoltLab GmbH//WoltLab Suite Calendar 5.4//EN
CALSCALE:GREGORIAN
X-WR-CALNAME;VALUE=TEXT:PvP-Liga-Saison 42
BEGIN:VEVENT
TRANSP:OPAQUE
UID:event-6125@gw2community.de
URL:https://gw2community.de/calendar/event/30497-pvp-liga-saison-42/
DTSTART:20240702T160000Z
DTSTAMP:20240702T160000Z
CREATED:20240702T160000Z
SUMMARY:PvP-Liga-Saison 42
DESCRIPTION:PvP-Liga-Saison 42 läuft vom 3. Juli bis 2. September.
DTEND:20240709T160000Z
END:VEVENT
END:VCALENDAR
