BEGIN:VCALENDAR
METHOD:PUBLISH
VERSION:2.0
PRODID:-//WoltLab GmbH//WoltLab Suite Calendar 5.4//EN
CALSCALE:GREGORIAN
X-WR-CALNAME;VALUE=TEXT:Guild Wars 2-Spielaktualisierung
BEGIN:VEVENT
TRANSP:OPAQUE
UID:event-6126@gw2community.de
URL:https://gw2community.de/calendar/event/30498-guild-wars-2-spielaktualis
 ierung/
DTSTART:20240625T160000Z
DTSTAMP:20240625T160000Z
CREATED:20240625T160000Z
SUMMARY:Guild Wars 2-Spielaktualisierung
DESCRIPTION:Das Spielbalance-Update vom 25. Juni umfasst das neueste Fertig
 keiten- und Spielbalance-Update und eine Aktualisierung der Belohnungen für
  PvP-Spiele mit Rangwertung.
DTEND:20240625T160000Z
END:VEVENT
END:VCALENDAR
