BEGIN:VCALENDAR
METHOD:PUBLISH
VERSION:2.0
PRODID:-//WoltLab GmbH//WoltLab Suite Calendar 5.4//EN
CALSCALE:GREGORIAN
X-WR-CALNAME;VALUE=TEXT:Das Drachen-Gepolter kehrt vom 4. bis 25. Juni zurü
 ck!
BEGIN:VEVENT
TRANSP:OPAQUE
UID:event-6128@gw2community.de
URL:https://gw2community.de/calendar/event/30500-das-drachen-gepolter-kehrt
 -vom-4-bis-25-juni-zur%C3%BCck/
DTSTART:20240604T160000Z
DTSTAMP:20240604T160000Z
CREATED:20240604T160000Z
SUMMARY:Das Drachen-Gepolter kehrt vom 4. bis 25. Juni zurück!
DESCRIPTION:Tyrias jährliche Feier des Sieges über die Alt-Drachen* kehrt a
 m 4. Juni in Guild Wars 2 zurück! In eurer Ingame-Post findet ihr eine Einl
 adung zum Drachen-Gepolter\, sobald das Festival begonnen hat.\n\n*Natürlic
 h ausgeschlossen Aurene.
DTEND:20240624T160000Z
END:VEVENT
END:VCALENDAR
