BEGIN:VCALENDAR
METHOD:PUBLISH
VERSION:2.0
PRODID:-//WoltLab GmbH//WoltLab Suite Calendar 5.4//EN
CALSCALE:GREGORIAN
X-WR-CALNAME;VALUE=TEXT:Guild Wars 2-Spielaktualisierung
BEGIN:VEVENT
TRANSP:OPAQUE
UID:event-6129@gw2community.de
URL:https://gw2community.de/calendar/event/30501-guild-wars-2-spielaktualis
 ierung/
DTSTART:20240604T160000Z
DTSTAMP:20240604T160000Z
CREATED:20240604T160000Z
SUMMARY:Guild Wars 2-Spielaktualisierung
DESCRIPTION:Die Spielaktualisierung vom 4. Juni bringt Drachen-Gepolter\, H
 erausforderungsmodus für das Fraktal-Verlies „Einsamer Turm“ und mehr!
DTEND:20240604T160000Z
END:VEVENT
END:VCALENDAR
