BEGIN:VCALENDAR
METHOD:PUBLISH
VERSION:2.0
PRODID:-//WoltLab GmbH//WoltLab Suite Calendar 5.4//EN
CALSCALE:GREGORIAN
X-WR-CALNAME;VALUE=TEXT:Livestream-Vorschau: Spielbalance-Update vom 25. Ju
 ni
BEGIN:VEVENT
TRANSP:OPAQUE
UID:event-6130@gw2community.de
URL:https://gw2community.de/calendar/event/30502-livestream-vorschau-spielb
 alance-update-vom-25-juni/
DTSTART:20240524T070000Z
DTSTAMP:20240524T070000Z
CREATED:20240524T070000Z
SUMMARY:Livestream-Vorschau: Spielbalance-Update vom 25. Juni
DESCRIPTION:Besucht den Twitch-Kanal von Guild Wars 2 am Freitag\, dem 24. 
 Mai um 21 Uhr MEZ (12 Uhr PT)! Taylor Brooks\, Roy Marks und Cal Cohen werd
 en eine Vorschau auf das Fertigkeiten- und Spielbalance-Update bieten\, das
  am 25. Juni veröffentlicht wird.
DTEND:20240524T090000Z
END:VEVENT
END:VCALENDAR
