BEGIN:VCALENDAR
METHOD:PUBLISH
VERSION:2.0
PRODID:-//WoltLab GmbH//WoltLab Suite Calendar 5.4//EN
CALSCALE:GREGORIAN
X-WR-CALNAME;VALUE=TEXT:„Der Mitternachtskönig“ ab 21. Mai
BEGIN:VEVENT
TRANSP:OPAQUE
UID:event-6131@gw2community.de
URL:https://gw2community.de/calendar/event/30503-der-mitternachtsk%C3%B6nig
 -ab-21-mai/
DTSTART:20240521T160000Z
DTSTAMP:20240521T160000Z
CREATED:20240521T160000Z
SUMMARY:„Der Mitternachtskönig“ ab 21. Mai
DESCRIPTION:„Der Mitternachtskönig“\, das letzte Update für Secrets of the 
 Obscure\, wird am 21. Mai in Guild Wars 2 veröffentlicht!
DTEND:20240521T160000Z
END:VEVENT
END:VCALENDAR
