BEGIN:VCALENDAR
METHOD:PUBLISH
VERSION:2.0
PRODID:-//WoltLab GmbH//WoltLab Suite Calendar 5.4//EN
CALSCALE:GREGORIAN
X-WR-CALNAME;VALUE=TEXT:Enthüllung der Guild Wars 2 Erweiterung: 4. Juni
BEGIN:VEVENT
TRANSP:TRANSPARENT
UID:event-6135@gw2community.de
URL:https://gw2community.de/calendar/event/30507-enth%C3%BCllung-der-guild-
 wars-2-erweiterung-4-juni/
DTSTART;VALUE=DATE:20240604
DTSTAMP:20240604T000000Z
CREATED:20240604T000000Z
SUMMARY:Enthüllung der Guild Wars 2 Erweiterung: 4. Juni
END:VEVENT
END:VCALENDAR
