BEGIN:VCALENDAR
METHOD:PUBLISH
VERSION:2.0
PRODID:-//WoltLab GmbH//WoltLab Suite Calendar 5.4//EN
CALSCALE:GREGORIAN
X-WR-CALNAME;VALUE=TEXT:Guild Wars 2: Janthir Wilds
BEGIN:VEVENT
TRANSP:TRANSPARENT
UID:event-6149@gw2community.de
URL:https://gw2community.de/calendar/event/30521-guild-wars-2-janthir-wilds
 /
DTSTART;VALUE=DATE:20240820
DTSTAMP:20240820T000000Z
CREATED:20240820T000000Z
SUMMARY:Guild Wars 2: Janthir Wilds
DESCRIPTION:Unsere fünfte Erweiterung erscheint am 20. August! Mehr darüber
  erfahrt ihr hier!\n\n\n\nDer Vorverkauf ist ab sofort verfügbar! Die volls
 tändigen Informationen zu den in den Editionen Standard\, Deluxe und Ultima
 te beinhalteten Gegenständen findet ihr auf der offiziellen Shopseite. Ihr 
 erhaltet Guild Wars 2: Janthir Wilds im offiziellen Store\, im Ingame-Shop\
 , auf Steam oder bei offiziellen Händlern.
END:VEVENT
END:VCALENDAR
