BEGIN:VCALENDAR
METHOD:PUBLISH
VERSION:2.0
PRODID:-//WoltLab GmbH//WoltLab Suite Calendar 5.4//EN
CALSCALE:GREGORIAN
X-WR-CALNAME;VALUE=TEXT:Beta-Event zu Janthir Wilds für Speer-Fertigkeiten
BEGIN:VEVENT
TRANSP:OPAQUE
UID:event-6150@gw2community.de
URL:https://gw2community.de/calendar/event/30522-beta-event-zu-janthir-wild
 s-f%C3%BCr-speer-fertigkeiten/
DTSTART:20240627T160000Z
DTSTAMP:20240627T160000Z
CREATED:20240627T160000Z
SUMMARY:Beta-Event zu Janthir Wilds für Speer-Fertigkeiten
DESCRIPTION:Macht mit bei unserem Beta-Event vom 27. Juni 18 Uhr MESZ (9 Uh
 r PT) bis zum 30. Juni 7 Uhr MESZ (30. Juni 22 Uhr PT). Hier kann jeder die
  neuen Speer-Fertigkeiten ausprobieren und uns Feedback dazu geben!
DTEND:20240701T050000Z
END:VEVENT
END:VCALENDAR
