BEGIN:VCALENDAR
METHOD:PUBLISH
VERSION:2.0
PRODID:-//WoltLab GmbH//WoltLab Suite Calendar 5.4//EN
CALSCALE:GREGORIAN
X-WR-CALNAME;VALUE=TEXT:Livestream-Vorschau: Speer-Fertigkeiten in Janthir 
 Wilds
BEGIN:VEVENT
TRANSP:OPAQUE
UID:event-6151@gw2community.de
URL:https://gw2community.de/calendar/event/30523-livestream-vorschau-speer-
 fertigkeiten-in-janthir-wilds/
DTSTART:20240621T190000Z
DTSTAMP:20240621T190000Z
CREATED:20240621T190000Z
SUMMARY:Livestream-Vorschau: Speer-Fertigkeiten in Janthir Wilds
DESCRIPTION:Am Freitag\, dem 21. Juni um 21 Uhr MESZ (12 Uhr PT) zeigen wir
  euch alle neuen Speerfertigkeiten live auf twitch.tv/guildwars2
DTEND:20240621T190000Z
END:VEVENT
END:VCALENDAR
